BEGIN:VCALENDAR
VERSION:2.0
PRODID:-//cve.org.co - ECPv6.1.3//NONSGML v1.0//EN
CALSCALE:GREGORIAN
METHOD:PUBLISH
X-WR-CALNAME:cve.org.co
X-ORIGINAL-URL:https://cve.org.co
X-WR-CALDESC:Eventos para cve.org.co
REFRESH-INTERVAL;VALUE=DURATION:PT1H
X-Robots-Tag:noindex
X-PUBLISHED-TTL:PT1H
BEGIN:VTIMEZONE
TZID:America/New_York
BEGIN:DAYLIGHT
TZOFFSETFROM:-0500
TZOFFSETTO:-0400
TZNAME:EDT
DTSTART:20230312T070000
END:DAYLIGHT
BEGIN:STANDARD
TZOFFSETFROM:-0400
TZOFFSETTO:-0500
TZNAME:EST
DTSTART:20231105T060000
END:STANDARD
END:VTIMEZONE
BEGIN:VEVENT
DTSTART;TZID=America/New_York:20231031T090000
DTEND;TZID=America/New_York:20231031T110000
DTSTAMP:20260422T112507
CREATED:20231202T215646Z
LAST-MODIFIED:20231202T215646Z
UID:1722-1698742800-1698750000@cve.org.co
SUMMARY:Conversatorio de la Subcomisión de Educación y Diversidad - Educación Rural: gobernabilidad y gobernanza en territorios de nadie
DESCRIPTION:
URL:https://cve.org.co/evento/conversatorio-de-la-subcomision-de-educacion-y-diversidad-educacion-rural-gobernabilidad-y-gobernanza-en-territorios-de-nadie/
ATTACH;FMTTYPE=image/jpeg:https://cve.org.co/wp-content/uploads/2023/12/conversatorio-diversidad.jpg
END:VEVENT
END:VCALENDAR